BEGIN:VCALENDAR
VERSION:2.0
PRODID:-//Swesif - ECPv6.14.2//NONSGML v1.0//EN
CALSCALE:GREGORIAN
METHOD:PUBLISH
X-ORIGINAL-URL:https://swesif.org
X-WR-CALDESC:Händelser för Swesif
REFRESH-INTERVAL;VALUE=DURATION:PT1H
X-Robots-Tag:noindex
X-PUBLISHED-TTL:PT1H
BEGIN:VTIMEZONE
TZID:Europe/Stockholm
BEGIN:DAYLIGHT
TZOFFSETFROM:+0100
TZOFFSETTO:+0200
TZNAME:CEST
DTSTART:20250330T010000
END:DAYLIGHT
BEGIN:STANDARD
TZOFFSETFROM:+0200
TZOFFSETTO:+0100
TZNAME:CET
DTSTART:20251026T010000
END:STANDARD
END:VTIMEZONE
BEGIN:VEVENT
DTSTART;TZID=Europe/Stockholm:20251125T083000
DTEND;TZID=Europe/Stockholm:20251125T110000
DTSTAMP:20260422T203124
CREATED:20251006T131534Z
LAST-MODIFIED:20251006T134800Z
UID:15786-1764059400-1764068400@swesif.org
SUMMARY:Swesif tipsar: TNFD’s LEAP method and best practices from front runners in financial sector’s nature work
DESCRIPTION:Finsif invites Nordic SIF members to an event presenting new capacity-building materials designed to help financial institutions apply the TNFD’s LEAP approach (Locate\, Evaluate\, Assess\, Prepare) and integrate nature-related considerations into investment and reporting practices. \nThe materials\, developed by Sitra and The Biodiversity Consultancy in collaboration with the TNFD Secretariat\, build on insights from Sitra’s 2024 TNFD training programme. During the event\, front running organisations will share practical experiences and best practices from applying the LEAP method within the financial sector. \nThe in-person event is for members of Finsif\, and all SIF members are welcome to the online event! \nRead more and register
URL:https://swesif.org/event/swesif-tipsar-tnfds-leap-method-and-best-practices-from-frontrunners-in-financial-sectors-nature-work/
CATEGORIES:Seminarium,Swesif Tipsar
ATTACH;FMTTYPE=image/jpeg:https://swesif.org/wp-content/uploads/2025/10/Namnlos-design-77.jpg
END:VEVENT
END:VCALENDAR