BEGIN:VCALENDAR
VERSION:2.0
PRODID:-//Swesif - ECPv6.14.2//NONSGML v1.0//EN
CALSCALE:GREGORIAN
METHOD:PUBLISH
X-ORIGINAL-URL:https://swesif.org
X-WR-CALDESC:Händelser för Swesif
REFRESH-INTERVAL;VALUE=DURATION:PT1H
X-Robots-Tag:noindex
X-PUBLISHED-TTL:PT1H
BEGIN:VTIMEZONE
TZID:Europe/Stockholm
BEGIN:DAYLIGHT
TZOFFSETFROM:+0100
TZOFFSETTO:+0200
TZNAME:CEST
DTSTART:20250330T010000
END:DAYLIGHT
BEGIN:STANDARD
TZOFFSETFROM:+0200
TZOFFSETTO:+0100
TZNAME:CET
DTSTART:20251026T010000
END:STANDARD
END:VTIMEZONE
BEGIN:VEVENT
DTSTART;TZID=Europe/Stockholm:20251023T090000
DTEND;TZID=Europe/Stockholm:20251023T103000
DTSTAMP:20260424T170433
CREATED:20250923T131703Z
LAST-MODIFIED:20251003T110023Z
UID:15762-1761210000-1761215400@swesif.org
SUMMARY:Seminarium: Hållbara investeringar i en ny geopolitisk verklighet
DESCRIPTION:Den förändrade geopolitiska situationen gör att synen på hållbara investeringar är i snabb förändring. Historiskt har investeringar i försvarsindustrin ofta exkluderats från det som klassas som hållbart. EU-kommissionens bedömning att investeringar i försvar kan omfattas inom ramen för hållbara investeringar innebär nu att synsättet behöver omprövas. \nSyftet med seminariet är både att fördjupa kunskapen om detta förändrade landskap och att skapa en plattform för erfarenhetsutbyte kring utmaningar och möjligheter. \nAnette Andersson\, styrelseledamot i Swesif\, ger en översikt över de svenska och internationella lagar och regelverk som investerare behöver förhålla sig till och belyser hur synen på försvarsindustrin har förändrats inom ramen för hållbara investeringar. Hon ställer frågan om detta ytterst handlar om hållbarhet eller etik och lyfter sektorns komplexitet\, begränsade transparens och olika klassificeringar – liksom vad investerare behöver tänka på när de väljer att inkludera försvar i portföljen. Madelene Rydén\, Säkerhets- och försvarsföretagen (SOFF)\, tar sedan vid och ger en introduktion till SOFF:s utveckling samt de frågor investerare bör beakta vid analys av bolag inom säkerhet och försvar. Hon lyfter fram bredden i sektorn och dess betydelse för Sveriges försvar och säkerhet\, där såväl traditionellt militärt försvar som cyberförsvar och samhällssäkerhet spelar avgörande roller. \nSeminariet modereras av Alexandra Frenander\, ESG Corporate Analyst på Folksam. \nDagens talare:\nMadelene Rydén arbetar på Säkerhets- och försvarsföretagen (SOFF) där hon är områdesansvarig för militärt försvar och därmed huvudansvarig för samverkan med försvarsmyndigheterna\, primärt Försvarets materielverk och Försvarsmakten. Madelene ansvarar också för frågor gällande investeringar och finansiering i försvarssektorn och samarbetar mycket med EKN och SEK i dessa frågor. Utöver detta ansvarar hon för SOFF:s medlemsgrupper för små och medelstora företag(SMF) samt tjänsteleverantörerna. Hon har tidigare erfarenhet från ett flertal olika roller inom Försvarets materielverk. \nAnette Andersson är ledamot i Swesif och senior hållbarhetsspecialist hos SEB Asset Management\, har mer än 30 års erfarenhet av finansiella marknader och drygt 20 år med hållbara investeingar. Hon studerade vid Handelshögskolan i Stockholm och innehar en CFA i Sustainable Investing från Oxford University. \n  \nSeminariet hålls under Chatham House Rule och är exklusivt för kapitalägare och kapitalförvaltare. \nVälkommen!
URL:https://swesif.org/event/seminarium-hallbara-investeringar-i-en-ny-geopolitisk-verklighet/
LOCATION:Cecil Coworking\, Norrlandsgatan 10\, 1tr\, Stockholm
CATEGORIES:Seminarium
ATTACH;FMTTYPE=image/jpeg:https://swesif.org/wp-content/uploads/2025/09/Namnlos-design-71.jpg
END:VEVENT
END:VCALENDAR