BEGIN:VCALENDAR
VERSION:2.0
PRODID:-//Swesif - ECPv6.14.2//NONSGML v1.0//EN
CALSCALE:GREGORIAN
METHOD:PUBLISH
X-ORIGINAL-URL:https://swesif.org
X-WR-CALDESC:Händelser för Swesif
REFRESH-INTERVAL;VALUE=DURATION:PT1H
X-Robots-Tag:noindex
X-PUBLISHED-TTL:PT1H
BEGIN:VTIMEZONE
TZID:Europe/Stockholm
BEGIN:DAYLIGHT
TZOFFSETFROM:+0100
TZOFFSETTO:+0200
TZNAME:CEST
DTSTART:20250330T010000
END:DAYLIGHT
BEGIN:STANDARD
TZOFFSETFROM:+0200
TZOFFSETTO:+0100
TZNAME:CET
DTSTART:20251026T010000
END:STANDARD
END:VTIMEZONE
BEGIN:VEVENT
DTSTART;TZID=Europe/Stockholm:20251009T110000
DTEND;TZID=Europe/Stockholm:20251009T120000
DTSTAMP:20260424T170545
CREATED:20250911T071513Z
LAST-MODIFIED:20250911T071753Z
UID:15759-1760007600-1760011200@swesif.org
SUMMARY:Swesif tipsar: Eurosif Policy & Capacity Building Webinar
DESCRIPTION:On 9 October\, Eurosif will host the third of this year’s series of quarterly policy and capacity building webinars aimed at members of national SIFs and Eurosif Club partners. \nIn these sessions\, members of the national SIFs and Eurosif Club partners can expect to get an overview of recent policy and political developments concerning different EU regulatory and legislative files of relevance to sustainable finance\, as well as to develop capacity to engage positively on related issues. \nRead more and register
URL:https://swesif.org/event/swesif-tipsar-eurosif-policy-capacity-building-webinar-2/
CATEGORIES:Seminarium,Swesif Tipsar
ATTACH;FMTTYPE=image/jpeg:https://swesif.org/wp-content/uploads/2020/05/eu-1232430_1920.jpg
END:VEVENT
END:VCALENDAR