BEGIN:VCALENDAR
VERSION:2.0
PRODID:-//Swesif - ECPv6.14.2//NONSGML v1.0//EN
CALSCALE:GREGORIAN
METHOD:PUBLISH
X-ORIGINAL-URL:https://swesif.org
X-WR-CALDESC:Händelser för Swesif
REFRESH-INTERVAL;VALUE=DURATION:PT1H
X-Robots-Tag:noindex
X-PUBLISHED-TTL:PT1H
BEGIN:VTIMEZONE
TZID:Europe/Stockholm
BEGIN:DAYLIGHT
TZOFFSETFROM:+0100
TZOFFSETTO:+0200
TZNAME:CEST
DTSTART:20250330T010000
END:DAYLIGHT
BEGIN:STANDARD
TZOFFSETFROM:+0200
TZOFFSETTO:+0100
TZNAME:CET
DTSTART:20251026T010000
END:STANDARD
END:VTIMEZONE
BEGIN:VEVENT
DTSTART;TZID=Europe/Stockholm:20250718T110000
DTEND;TZID=Europe/Stockholm:20250718T120000
DTSTAMP:20260425T011900
CREATED:20250709T063114Z
LAST-MODIFIED:20250709T063400Z
UID:15714-1752836400-1752840000@swesif.org
SUMMARY:Swesif tipsar: Välkommen att bidra till konsultation om förenklade ESRS
DESCRIPTION:EFRAG har fått i uppdrag att förenkla de europeiska hållbarhetsrapporteringsstandarderna (ESRS)\, inom ramen för det så kallade Omnibus 1-förslaget. En offentlig konsultation pågår nu till slutet av september och Eurosif kommer att delta i konsultationen med ett svar som bygger på investerares perspektiv. \nFör att stärka kvaliteten i detta svar och säkerställa att det speglar behov och prioriteringar från olika delar av Europa\, vill Eurosif gärna inkludera input från Swesifs medlemsbas. \nVill er organisation bidra?\nKontakta oss på swesif@swesif.org så skickar vi Excelfilen med Eurosifs preliminära förslag\, samt instruktioner för hur ni kan ge feedback. \nSvar önskas senast fredag den 18 juli.
URL:https://swesif.org/event/swesif-tipsar-valkommen-att-bidra-till-konsultation-om-forenklade-esrs/
CATEGORIES:Seminarium,Swesif Tipsar
ATTACH;FMTTYPE=image/jpeg:https://swesif.org/wp-content/uploads/2020/05/European-Council1_EuropaBuilding.jpg
END:VEVENT
END:VCALENDAR