BEGIN:VCALENDAR
VERSION:2.0
PRODID:-//Swesif - ECPv6.14.2//NONSGML v1.0//EN
CALSCALE:GREGORIAN
METHOD:PUBLISH
X-ORIGINAL-URL:https://swesif.org
X-WR-CALDESC:Händelser för Swesif
REFRESH-INTERVAL;VALUE=DURATION:PT1H
X-Robots-Tag:noindex
X-PUBLISHED-TTL:PT1H
BEGIN:VTIMEZONE
TZID:Europe/Stockholm
BEGIN:DAYLIGHT
TZOFFSETFROM:+0100
TZOFFSETTO:+0200
TZNAME:CEST
DTSTART:20250330T010000
END:DAYLIGHT
BEGIN:STANDARD
TZOFFSETFROM:+0200
TZOFFSETTO:+0100
TZNAME:CET
DTSTART:20251026T010000
END:STANDARD
END:VTIMEZONE
BEGIN:VEVENT
DTSTART;TZID=Europe/Stockholm:20250515T083000
DTEND;TZID=Europe/Stockholm:20250515T133000
DTSTAMP:20260425T222603
CREATED:20250205T082621Z
LAST-MODIFIED:20250411T061249Z
UID:14792-1747297800-1747315800@swesif.org
SUMMARY:Swesif tipsar: SFL Partner Day 2025
DESCRIPTION:Welcome to Sustainable Finance Lab’s yearly Partner Day! \nIn this SFL Partner Day\, we explore what the new geopolitical environment and backsliding in EU sustainability regulations may mean for sustainable finance. \nPolicymakers\, companies and financial market actors are all impacted by the current geopolitical landscape marked by protectionism\, heightened tensions and increased uncertainty. This is manifested in the new US Administration’s declaration to once again pull out of the Paris Climate Accord\, as well as the turbulence surrounding the European Union’s sustainability regulations. The Omnibus proposal\, expected to propose streamlining of the Taxonomy\, CSRD\, and CSDDD may in fact scale back and/or hinder progress on globally set sustainability targets\, relating to climate goals\, biodiversity and social issues. \nRead more and register
URL:https://swesif.org/event/swesif-tipsar-sfl-partner-day-2025/
LOCATION:KTH\, Gradängsalen\, Teknikringen 1\, Stockholm
CATEGORIES:Seminarium,Swesif Tipsar
ATTACH;FMTTYPE=image/jpeg:https://swesif.org/wp-content/uploads/2025/02/signature_image_web3.jpg
END:VEVENT
END:VCALENDAR