BEGIN:VCALENDAR
VERSION:2.0
PRODID:-//Swesif - ECPv6.14.2//NONSGML v1.0//EN
CALSCALE:GREGORIAN
METHOD:PUBLISH
X-ORIGINAL-URL:https://swesif.org
X-WR-CALDESC:Händelser för Swesif
REFRESH-INTERVAL;VALUE=DURATION:PT1H
X-Robots-Tag:noindex
X-PUBLISHED-TTL:PT1H
BEGIN:VTIMEZONE
TZID:Europe/Stockholm
BEGIN:DAYLIGHT
TZOFFSETFROM:+0100
TZOFFSETTO:+0200
TZNAME:CEST
DTSTART:20250330T010000
END:DAYLIGHT
BEGIN:STANDARD
TZOFFSETFROM:+0200
TZOFFSETTO:+0100
TZNAME:CET
DTSTART:20251026T010000
END:STANDARD
END:VTIMEZONE
BEGIN:VEVENT
DTSTART;TZID=Europe/Stockholm:20250424T090000
DTEND;TZID=Europe/Stockholm:20250424T100000
DTSTAMP:20260425T135839
CREATED:20250320T102416Z
LAST-MODIFIED:20250327T103646Z
UID:15381-1745485200-1745488800@swesif.org
SUMMARY:Seminar with Beatrice Crona - Doing Business within Planetary Boundaries
DESCRIPTION:Welcome to a seminar where Beatrice Crona presents the report Doing Business within Planetary Boundaries. Based on a decade of transdisciplinary research\, the report integrates sustainable finance\, ecological economics\, resilience science\, and Earth system science. It offers valuable guidance to businesses\, investors\, and policymakers\, helping them improve the reliability of their assessments of nature-related impacts\, risks\, and opportunities. \nBusinesses and investors play a crucial role in addressing the climate and nature crisis\, but this requires better ways to measure corporate activities based on planetary health. Economic activities are driving the breach of multiple planetary boundaries\, threatening both business viability and global sustainability. To drive real change\, companies must align with the planetary boundaries framework and ensure full\, accurate environmental data. Beatrice Crona highlights key challenges and solutions for improving corporate reporting\, nature-related risk assessments\, and sustainable investments—turning emerging data and reporting trends into a force for sustainability. \nToday’s speaker:\nBeatrice Crona\, Science Director at Stockholm Resilience Center Executive Director of the Global Economic Dynamics and Biosphere Program at the Royal Swedish Academy of Science. Beatrice Crona’s research spans a wide range of topics\, but her recent work can be broadly seen as contributing to two key areas of transdisciplinary research: corporate and financial system sustainability and food systems transformation\, with a particular focus on aquatic foods. \n 
URL:https://swesif.org/event/seminarie-beatrice-crona/
LOCATION:Cecil Coworking\, Norrlandsgatan 10\, 1tr\, Stockholm
CATEGORIES:Seminarium
ATTACH;FMTTYPE=image/jpeg:https://swesif.org/wp-content/uploads/2025/03/ice.jpg
END:VEVENT
END:VCALENDAR