BEGIN:VCALENDAR
VERSION:2.0
PRODID:-//Swesif - ECPv6.14.2//NONSGML v1.0//EN
CALSCALE:GREGORIAN
METHOD:PUBLISH
X-ORIGINAL-URL:https://swesif.org
X-WR-CALDESC:Händelser för Swesif
REFRESH-INTERVAL;VALUE=DURATION:PT1H
X-Robots-Tag:noindex
X-PUBLISHED-TTL:PT1H
BEGIN:VTIMEZONE
TZID:Europe/Stockholm
BEGIN:DAYLIGHT
TZOFFSETFROM:+0100
TZOFFSETTO:+0200
TZNAME:CEST
DTSTART:20250330T010000
END:DAYLIGHT
BEGIN:STANDARD
TZOFFSETFROM:+0200
TZOFFSETTO:+0100
TZNAME:CET
DTSTART:20251026T010000
END:STANDARD
END:VTIMEZONE
BEGIN:VEVENT
DTSTART;TZID=Europe/Stockholm:20250311T150000
DTEND;TZID=Europe/Stockholm:20250311T160000
DTSTAMP:20260425T182906
CREATED:20250206T102238Z
LAST-MODIFIED:20250206T105615Z
UID:14845-1741705200-1741708800@swesif.org
SUMMARY:Swesif tipsar: Eurosif Policy & Capacity Building Webinar
DESCRIPTION:On 11 March\, Eurosif will host the first of this year’s series of quarterly policy and capacity building webinars. \nIn these sessions\, members and partners can expect to get an overview of recent policy and political developments concerning different EU regulatory and legislative files of relevance to sustainable finance\, as well as to develop capacity to engage positively on related issues. \nIn this webinar\, Eurosif will also provide further insights into the Omnibus initiative. \nAttendees are encouraged to ask questions via the dedicated chat during the webinar. These will be answered live by the Eurosif Policy team. \nRegister here
URL:https://swesif.org/event/swesif-tipsar-eurosif-policy-capacity-building-webinar/
CATEGORIES:Seminarium,Swesif Tipsar
ATTACH;FMTTYPE=image/jpeg:https://swesif.org/wp-content/uploads/2024/03/eurosif.jpg
END:VEVENT
END:VCALENDAR