BEGIN:VCALENDAR
VERSION:2.0
PRODID:-//Swesif - ECPv6.14.2//NONSGML v1.0//EN
CALSCALE:GREGORIAN
METHOD:PUBLISH
X-ORIGINAL-URL:https://swesif.org
X-WR-CALDESC:Händelser för Swesif
REFRESH-INTERVAL;VALUE=DURATION:PT1H
X-Robots-Tag:noindex
X-PUBLISHED-TTL:PT1H
BEGIN:VTIMEZONE
TZID:Europe/Stockholm
BEGIN:DAYLIGHT
TZOFFSETFROM:+0100
TZOFFSETTO:+0200
TZNAME:CEST
DTSTART:20260329T010000
END:DAYLIGHT
BEGIN:STANDARD
TZOFFSETFROM:+0200
TZOFFSETTO:+0100
TZNAME:CET
DTSTART:20261025T010000
END:STANDARD
END:VTIMEZONE
BEGIN:VEVENT
DTSTART;TZID=Europe/Stockholm:20260128T080000
DTEND;TZID=Europe/Stockholm:20260128T093000
DTSTAMP:20260422T163627
CREATED:20260112T142138Z
LAST-MODIFIED:20260112T143110Z
UID:15949-1769587200-1769592600@swesif.org
SUMMARY:Swesif tipsar: Panelsamtal: Verktyg för att minska markkonflikter i Sápmi
DESCRIPTION:Datum: 28 januari\nTid: Frukost och insläpp från kl. 08.00. Panelsamtal kl. 08.30–09.30\nPlats: Postmuseum\, Lilla Nygatan 6\, Stockholm \nAmnesty International bjuder in till ett panelsamtal för att diskutera hur Sverige kan respektera urfolksrättigheter samtidigt som vi genomför nödvändiga klimatåtgärder. \nFör att begränsa klimatförändringarna behövs metaller och mineraler för elektrifiering av bland annat fordon. I norra Sverige pågår en snabb utbyggnad av gruvnäringen. Men i fall efter fall ignoreras samers grundläggande rättigheter vid markexploatering\, visar Amnesty Sveriges och Samerådets rapport. \nRapporten föreslår att Sverige ska skärpa lagstiftningen för att garantera samers rätt till fritt\, informerat förhandssamtycke. En sådan förändring skulle både kunna garantera respekt för urfolksrättigheter\, säkerställa välgrundade beslut i tillståndsprocesser och förebygga långdragna konflikter. \nLäs mer och registrera dig 
URL:https://swesif.org/event/swesif-tipsar-panelsamtal-verktyg-for-att-minska-markkonflikter-i-sapmi/
CATEGORIES:Seminarium,Swesif Tipsar
ATTACH;FMTTYPE=image/jpeg:https://swesif.org/wp-content/uploads/2026/01/SAPMI.jpg
END:VEVENT
END:VCALENDAR