BEGIN:VCALENDAR
VERSION:2.0
PRODID:-//Swesif - ECPv6.14.2//NONSGML v1.0//EN
CALSCALE:GREGORIAN
METHOD:PUBLISH
X-ORIGINAL-URL:https://swesif.org
X-WR-CALDESC:Händelser för Swesif
REFRESH-INTERVAL;VALUE=DURATION:PT1H
X-Robots-Tag:noindex
X-PUBLISHED-TTL:PT1H
BEGIN:VTIMEZONE
TZID:Europe/Stockholm
BEGIN:DAYLIGHT
TZOFFSETFROM:+0100
TZOFFSETTO:+0200
TZNAME:CEST
DTSTART:20250330T010000
END:DAYLIGHT
BEGIN:STANDARD
TZOFFSETFROM:+0200
TZOFFSETTO:+0100
TZNAME:CET
DTSTART:20251026T010000
END:STANDARD
END:VTIMEZONE
BEGIN:VEVENT
DTSTART;TZID=Europe/Stockholm:20250822T100000
DTEND;TZID=Europe/Stockholm:20250822T114500
DTSTAMP:20260424T181035
CREATED:20250813T100817Z
LAST-MODIFIED:20250813T112306Z
UID:15726-1755856800-1755863100@swesif.org
SUMMARY:Swesif tipsar: Möjlighet att vara med och påverka utvecklingen inom cirkulär finansiering på nordisk nivå
DESCRIPTION:The Nordic Roadmap for Circular Financing välkomnar Swesifs medlemmar att delta i en av de två arbetsgrupperna för Debt respektive Equity capital inom den Nordiska färdplanen för cirkulär finansiering. Ambitionen är att utveckla synen på risk och lönsamhet avseende cirkulära företag och värdekedjor\, att ta fram best practice och utbyta erfarenheter. Det första mötet äger rum den 22 augusti och under det mötet fastställs agendan och prioriteringar för arbetet under det kommande året. \nAnmäl dig till carolina.andren.eriksson@ri.se och ange Equity/VC eller Debt som break out session. \nLäs mer här
URL:https://swesif.org/event/swesif-tipsar-arbetsgrupper-nordiska-fardplanen-for-cirkular-finansiering/
CATEGORIES:Seminarium,Swesif Tipsar
ATTACH;FMTTYPE=image/jpeg:https://swesif.org/wp-content/uploads/2025/08/financerise.jpg
END:VEVENT
END:VCALENDAR